BEGIN:VCALENDAR
VERSION:2.0
PRODID:-//Carol's Kindness - ECPv6.15.20//NONSGML v1.0//EN
CALSCALE:GREGORIAN
METHOD:PUBLISH
X-WR-CALNAME:Carol's Kindness
X-ORIGINAL-URL:https://www.carolskindness.org
X-WR-CALDESC:Events for Carol's Kindness
REFRESH-INTERVAL;VALUE=DURATION:PT1H
X-Robots-Tag:noindex
X-PUBLISHED-TTL:PT1H
BEGIN:VTIMEZONE
TZID:America/Chicago
BEGIN:DAYLIGHT
TZOFFSETFROM:-0600
TZOFFSETTO:-0500
TZNAME:CDT
DTSTART:20250309T080000
END:DAYLIGHT
BEGIN:STANDARD
TZOFFSETFROM:-0500
TZOFFSETTO:-0600
TZNAME:CST
DTSTART:20251102T070000
END:STANDARD
BEGIN:DAYLIGHT
TZOFFSETFROM:-0600
TZOFFSETTO:-0500
TZNAME:CDT
DTSTART:20260308T080000
END:DAYLIGHT
BEGIN:STANDARD
TZOFFSETFROM:-0500
TZOFFSETTO:-0600
TZNAME:CST
DTSTART:20261101T070000
END:STANDARD
BEGIN:DAYLIGHT
TZOFFSETFROM:-0600
TZOFFSETTO:-0500
TZNAME:CDT
DTSTART:20270314T080000
END:DAYLIGHT
BEGIN:STANDARD
TZOFFSETFROM:-0500
TZOFFSETTO:-0600
TZNAME:CST
DTSTART:20271107T070000
END:STANDARD
END:VTIMEZONE
BEGIN:VTIMEZONE
TZID:UTC
BEGIN:STANDARD
TZOFFSETFROM:+0000
TZOFFSETTO:+0000
TZNAME:UTC
DTSTART:20250101T000000
END:STANDARD
END:VTIMEZONE
BEGIN:VEVENT
DTSTART;TZID=America/Chicago:20260425T093000
DTEND;TZID=America/Chicago:20260425T104500
DTSTAMP:20260420T033717
CREATED:20260405T122146Z
LAST-MODIFIED:20260405T122151Z
UID:15785-1777109400-1777113900@www.carolskindness.org
SUMMARY:Saturday Pack & Transport Food
DESCRIPTION:PACK AND TRANSPORT FOOD FROM CAROL’S TO GUS GARCIA. UNLOAD CARS\, TRUCKS\, ASSIST WITH CTFB PALLETS\, MAY RETURN FOR ADDITIONAL ITEMS AS NEEDED. \n\n\n\nDO NOT SIGN UP FOR THIS IF YOU DO NOT INTEND TO DRIVE FOOD. ASSIST WITH UNLOADING FOOD BANK PALLETS. \n\n\n\n\n\n \n\n\n\n\n\n\n\n\n\n\n\nThis shift requires heavy lifting using your own vehicle. You will regularly be lifting 35 to 50 lb. You must submit proof of auto insurance as our insurance requires a copy of your auto insurance if you are transporting food for us.  \n\n\n\n\nPack food from fridges and freezers into coolers and boxes.\n\n\n\nMove food from Carol’s to Gus Garcia using personal vehicles.\n\n\n\nUnload vehicles and sort boxes at Gus Garcia.\n\n\n\nAssist with unloading pallets from the food bank.\n\n\n\nAssist setting up the pantry as needed.\n\n\n\nNeed 3-4 vehicles and additional persons.
URL:https://www.carolskindness.org/volunteer/saturday-pack-transport-food-35/
LOCATION:Carol Rabun’s House\, 9507 Hansford Dr\, Austin\, TX\, 78753\, United States
ATTACH;FMTTYPE=image/jpeg:https://www.carolskindness.org/wp-content/uploads/2025/05/IMG_7921-1-4x3-1.jpeg
ORGANIZER;CN="Dianne Koehler":MAILTO:pantryck@gmail.com
END:VEVENT
BEGIN:VEVENT
DTSTART;TZID=America/Chicago:20260425T094500
DTEND;TZID=America/Chicago:20260425T114500
DTSTAMP:20260420T033717
CREATED:20260405T122411Z
LAST-MODIFIED:20260405T122419Z
UID:15789-1777110300-1777117500@www.carolskindness.org
SUMMARY:Saturday Set Up
DESCRIPTION:This shift requires heavy lifting up to 50 lb and adaptability to work where needed. Our insurance requires a copy of your auto insurance if you are transporting food for us. Check out our volunteer information page for more details. \n\n\n\n\nUnload vehicles.\n\n\n\nUnload pallets from CTFB\n\n\n\nArrange foods on tables at pantry.\n\n\n\nSet room up for pantry\n\n\n\nClean empty coolers
URL:https://www.carolskindness.org/volunteer/saturday-set-up-41/
LOCATION:Gus Garcia Recreation Center\, 1201 E. Rundberg Ln\, Austin\, TX\, 78753\, United States
ATTACH;FMTTYPE=image/jpeg:https://www.carolskindness.org/wp-content/uploads/2023/10/IMG_20231021_103712260_HDR-scaled-e1700259244913.jpg
ORGANIZER;CN="Dianne Koehler":MAILTO:pantryck@gmail.com
END:VEVENT
BEGIN:VEVENT
DTSTART;TZID=UTC:20260425T114500
DTEND;TZID=UTC:20260425T143000
DTSTAMP:20260420T033717
CREATED:20260405T122733Z
LAST-MODIFIED:20260405T122742Z
UID:15795-1777117500-1777127400@www.carolskindness.org
SUMMARY:Saturday Serve & Break Down
DESCRIPTION:This is the best shift for younger volunteers. May involve heavy lifting up to 35 lb.Check out our volunteer information page for more details. \n\n\n\n\nAssist clients with selections.\n\n\n\nResupply and arrange food items.\n\n\n\nTake out trash and recycling.\n\n\n\nMay take excess food to FreeFridges\n\n\n\nMove or lift boxes up to 35 lb.\n\n\n\nStay until all is cleaned up and rearrange room at end of pantry.\n\n\n\nPack remaining items into coolers and totes\, and carry to vehicles for transporting back to storage.\n\n\n\nMay assist in registration.\n\n\n\nAssist clients\, transporting food items to their vehicles.\n\n\n\nAssist carrying\, weighing\, and arranging last minute donations.
URL:https://www.carolskindness.org/volunteer/saturday-serve-break-down-28/
LOCATION:Gus Garcia Recreation Center\, 1201 E. Rundberg Ln\, Austin\, TX\, 78753\, United States
ATTACH;FMTTYPE=image/jpeg:https://www.carolskindness.org/wp-content/uploads/2025/05/IMG_1765-1-4x3-1.jpeg
ORGANIZER;CN="Dianne Koehler":MAILTO:pantryck@gmail.com
END:VEVENT
BEGIN:VEVENT
DTSTART;TZID=America/Chicago:20260502T093000
DTEND;TZID=America/Chicago:20260502T104500
DTSTAMP:20260420T033717
CREATED:20260405T123303Z
LAST-MODIFIED:20260405T123308Z
UID:15794-1777714200-1777718700@www.carolskindness.org
SUMMARY:Saturday Pack & Transport Food
DESCRIPTION:PACK AND TRANSPORT FOOD FROM CAROL’S TO GUS GARCIA. UNLOAD CARS\, TRUCKS\, ASSIST WITH CTFB PALLETS\, MAY RETURN FOR ADDITIONAL ITEMS AS NEEDED. \n\n\n\nDO NOT SIGN UP FOR THIS IF YOU DO NOT INTEND TO DRIVE FOOD. ASSIST WITH UNLOADING FOOD BANK PALLETS. \n\n\n\n\n\n \n\n\n\n\n\n\n\n\n\n\n\nThis shift requires heavy lifting using your own vehicle. You will regularly be lifting 35 to 50 lb. You must submit proof of auto insurance as our insurance requires a copy of your auto insurance if you are transporting food for us.  \n\n\n\n\nPack food from fridges and freezers into coolers and boxes.\n\n\n\nMove food from Carol’s to Gus Garcia using personal vehicles.\n\n\n\nUnload vehicles and sort boxes at Gus Garcia.\n\n\n\nAssist with unloading pallets from the food bank.\n\n\n\nAssist setting up the pantry as needed.\n\n\n\nNeed 3-4 vehicles and additional persons.
URL:https://www.carolskindness.org/volunteer/saturday-pack-transport-food-36/
LOCATION:Carol Rabun’s House\, 9507 Hansford Dr\, Austin\, TX\, 78753\, United States
ATTACH;FMTTYPE=image/jpeg:https://www.carolskindness.org/wp-content/uploads/2025/05/IMG_7921-1-4x3-1.jpeg
ORGANIZER;CN="Dianne Koehler":MAILTO:pantryck@gmail.com
END:VEVENT
END:VCALENDAR